BEGIN:VCALENDAR
VERSION:2.0
PRODID:icalendar-ruby
CALSCALE:GREGORIAN
METHOD:PUBLISH
BEGIN:VEVENT
DTSTAMP:20260422T130613Z
UID:155-1363340@faithdiscovery.com
DTSTART:20261004T200000Z
DTEND:20261004T220000Z
CLASS:PUBLIC
CREATED:20260422T064453
DESCRIPTION:
LAST-MODIFIED:20260422T064453
LOCATION:FDC main building
SUMMARY:Awana Clubs
URL;VALUE=URI:https://faithdiscovery.com/events/awana-clubs/2026-10-04
ATTACH;FILENAME=Untitled-design-%282%29.jpg;FMTTYPE=image/jpeg:https://dq5p
 wpg1q8ru0.cloudfront.net/2025/04/30/18/19/40/6305fc04-e7d1-45df-b1be-97ee6
 a3cd062/Untitled-design-%25282%2529.jpg
END:VEVENT
END:VCALENDAR
